BEGIN:VCALENDAR
VERSION:2.0
PRODID:-//eventon.com NONSGML v1.0//EN
CALSCALE:GREGORIAN
METHOD:PUBLISH
BEGIN:VEVENT
UID:69e8170b2009c
DTSTAMP:20260422T003211Z
DTSTART:20230402T063000Z
DTEND:20230402T143000Z
LOCATION:
SUMMARY:Begleithunde Gruppenleiterkurs
DESCRIPTION:Einladung Gruppenleiterkurs 2023 (pdf-Datei)\nhttps://dackel.ch
 /events/begleithunde-gruppenleiterkurs/
URL:https://dackel.ch/events/begleithunde-gruppenleiterkurs/
END:VEVENT
END:VCALENDAR