BEGIN:VCALENDAR
VERSION:2.0
PRODID:-//eventon.com NONSGML v1.0//EN
CALSCALE:GREGORIAN
METHOD:PUBLISH
BEGIN:VEVENT
UID:69e7fe0dbb29e
DTSTAMP:20260421T224533Z
DTSTART:20230325T123000Z
DTEND:20230325T225000Z
LOCATION:Dottikon Hotel Bahnhof
SUMMARY:120. GV Generalversammlung
DESCRIPTION:120. GV Dottikon\,  Rest. Hotel Bahnhof GV-Einladung 2023 &nbsp
 ; &nbsp;\nhttps://dackel.ch/events/gv-2/
URL:https://dackel.ch/events/gv-2/
END:VEVENT
END:VCALENDAR