BEGIN:VCALENDAR
VERSION:2.0
PRODID:-//eventon.com NONSGML v1.0//EN
CALSCALE:GREGORIAN
METHOD:PUBLISH
BEGIN:VEVENT
UID:69e7e416d84d9
DTSTAMP:20260421T205446Z
DTSTART:20230312
DTEND:20230313
LOCATION:
SUMMARY:Formwert- und Verhaltensbeurteilung
DESCRIPTION:OG Ost Ort: Sitterdorf Anmeldungen sind auch in Papierform mög
 lich:\nhttps://dackel.ch/events/formwert-und-verhaltensbeurteilung-6/
URL:https://dackel.ch/events/formwert-und-verhaltensbeurteilung-6/
END:VEVENT
END:VCALENDAR