BEGIN:VCALENDAR
VERSION:2.0
PRODID:-//eventon.com NONSGML v1.0//EN
CALSCALE:GREGORIAN
METHOD:PUBLISH
BEGIN:VEVENT
UID:69e7c80a07b9a
DTSTAMP:20260421T185506Z
DTSTART:20230521
DTEND:20230522
LOCATION:
SUMMARY:Formwert- und Verhaltensbeurteilung
DESCRIPTION:OG GRAT Ort: Chesalles-s.M. Anmeldungen sind auch in Papierform
  möglich: &nbsp; &nbsp; &nbsp;\nhttps://dackel.ch/events/formwert-und-verh
 altensbeurteilung-7/
URL:https://dackel.ch/events/formwert-und-verhaltensbeurteilung-7/
END:VEVENT
END:VCALENDAR