BEGIN:VCALENDAR
VERSION:2.0
PRODID:-//eventon.com NONSGML v1.0//EN
CALSCALE:GREGORIAN
METHOD:PUBLISH
BEGIN:VEVENT
UID:69e7ae0013e20
DTSTAMP:20260421T170400Z
DTSTART:20231008
DTEND:20231009
LOCATION:
SUMMARY:Formwert- und Verhaltensbeurteilung
DESCRIPTION:OG GR-TI Ort: Maienfeld Ausschreibung (pdf-Datei) Anmeldungen s
 ind auch in Papierform möglich: &nbsp;\nhttps://dackel.ch/events/formwert-
 und-verhaltensbeurteilung-copy-3/
URL:https://dackel.ch/events/formwert-und-verhaltensbeurteilung-copy-3/
END:VEVENT
END:VCALENDAR