BEGIN:VCALENDAR
VERSION:2.0
PRODID:-//eventon.com NONSGML v1.0//EN
CALSCALE:GREGORIAN
METHOD:PUBLISH
BEGIN:VEVENT
UID:69e797a69e004
DTSTAMP:20260421T152838Z
DTSTART:20230415
DTEND:20230416
LOCATION:
SUMMARY:SDC Züchter- und Richtertagung
DESCRIPTION:Ort: Schloss Landshut Anmeldung Züchter- und Richtertagung 23 
 (pdf-Datei) &nbsp;\nhttps://dackel.ch/events/sdc-zuechter-und-richtertagung
 /
URL:https://dackel.ch/events/sdc-zuechter-und-richtertagung/
END:VEVENT
END:VCALENDAR