BEGIN:VCALENDAR
VERSION:2.0
PRODID:-//eventon.com NONSGML v1.0//EN
CALSCALE:GREGORIAN
METHOD:PUBLISH
BEGIN:VEVENT
UID:69e7969bd1024
DTSTAMP:20260421T152411Z
DTSTART:20230521
DTEND:20230522
LOCATION:
SUMMARY:Veteranen-BHP (ab 8 Jahren)
DESCRIPTION:OG Ostschweiz (Nachmittag) Ort: Sitterdorf\nhttps://dackel.ch/e
 vents/veteranen-bhp-ab-8-jahren-3/
URL:https://dackel.ch/events/veteranen-bhp-ab-8-jahren-3/
END:VEVENT
END:VCALENDAR