BEGIN:VCALENDAR
VERSION:2.0
PRODID:-//eventon.com NONSGML v1.0//EN
CALSCALE:GREGORIAN
METHOD:PUBLISH
BEGIN:VEVENT
UID:69e7956dc78da
DTSTAMP:20260421T151909Z
DTSTART:20230621
DTEND:20230622
LOCATION:
SUMMARY:Wassertest
DESCRIPTION:Ort: Untervaz &nbsp;\nhttps://dackel.ch/events/wassertest-3/
URL:https://dackel.ch/events/wassertest-3/
END:VEVENT
END:VCALENDAR