BEGIN:VCALENDAR
VERSION:2.0
PRODID:-//eventon.com NONSGML v1.0//EN
CALSCALE:GREGORIAN
METHOD:PUBLISH
BEGIN:VEVENT
UID:69e74c1c22062
DTSTAMP:20260421T100620Z
DTSTART:20230702
DTEND:20230703
LOCATION:
SUMMARY:Begleithundeprüfung
DESCRIPTION:OG ZH Ort: Schlatt TG\nhttps://dackel.ch/events/begleithundepru
 efung-6/
URL:https://dackel.ch/events/begleithundepruefung-6/
END:VEVENT
END:VCALENDAR