BEGIN:VCALENDAR
VERSION:2.0
PRODID:-//eventon.com NONSGML v1.0//EN
CALSCALE:GREGORIAN
METHOD:PUBLISH
BEGIN:VEVENT
UID:69e73977f2a17
DTSTAMP:20260421T084647Z
DTSTART:20230709
DTEND:20230710
LOCATION:
SUMMARY:Begleithundeprüfung
DESCRIPTION:OG GR-TI Ort: Landquart\nhttps://dackel.ch/events/begleithundep
 ruefung-7/
URL:https://dackel.ch/events/begleithundepruefung-7/
END:VEVENT
END:VCALENDAR