BEGIN:VCALENDAR
VERSION:2.0
PRODID:-//eventon.com NONSGML v1.0//EN
CALSCALE:GREGORIAN
METHOD:PUBLISH
BEGIN:VEVENT
UID:69e7208d0b03b
DTSTAMP:20260421T070029Z
DTSTART:20230715
DTEND:20230716
LOCATION:
SUMMARY:Begleithundeprüfung
DESCRIPTION:OG BE Ort: Münsingen/Belp BHP OG Bern Ausschreibung und Anmeld
 ung 2023 &nbsp;\nhttps://dackel.ch/events/begleithundepruefung-copy/
URL:https://dackel.ch/events/begleithundepruefung-copy/
END:VEVENT
END:VCALENDAR