BEGIN:VCALENDAR
VERSION:2.0
PRODID:-//eventon.com NONSGML v1.0//EN
CALSCALE:GREGORIAN
METHOD:PUBLISH
BEGIN:VEVENT
UID:69e704af7353a
DTSTAMP:20260421T050135Z
DTSTART:20230806
DTEND:20230807
LOCATION:
SUMMARY:Begleithundeprüfung
DESCRIPTION:Ausschreibung und Anmeldung (pdf-Datei) OG Ost Ort: Sitterdorf\
 nhttps://dackel.ch/events/begleithundepruefung-8/
URL:https://dackel.ch/events/begleithundepruefung-8/
END:VEVENT
END:VCALENDAR