BEGIN:VCALENDAR
VERSION:2.0
PRODID:-//eventon.com NONSGML v1.0//EN
CALSCALE:GREGORIAN
METHOD:PUBLISH
BEGIN:VEVENT
UID:69e6ec1d1f2d4
DTSTAMP:20260421T031645Z
DTSTART:20230820
DTEND:20230821
LOCATION:
SUMMARY:SDC Dackelrennen Rifferswil
DESCRIPTION:Abgesagt! Wegen dem heissen Wetter findet das Dackelrennen leid
 er nicht statt. Die Gesundheit unserer Hunde und auch die der Herrchen und 
 Frauchen geht vor.\nhttps://dackel.ch/events/sdc-dackelrennen-rifferswil-3/
URL:https://dackel.ch/events/sdc-dackelrennen-rifferswil-3/
END:VEVENT
END:VCALENDAR