BEGIN:VCALENDAR
VERSION:2.0
PRODID:-//eventon.com NONSGML v1.0//EN
CALSCALE:GREGORIAN
METHOD:PUBLISH
BEGIN:VEVENT
UID:69e6d2fc8db70
DTSTAMP:20260421T012932Z
DTSTART:20230820
DTEND:20230821
LOCATION:
SUMMARY:Nachsucheprüfung (Schweiss)
DESCRIPTION:Ort: Zernez\nhttps://dackel.ch/events/nachsuchepruefung-schweis
 s-3/
URL:https://dackel.ch/events/nachsuchepruefung-schweiss-3/
END:VEVENT
END:VCALENDAR