BEGIN:VCALENDAR
VERSION:2.0
PRODID:-//eventon.com NONSGML v1.0//EN
CALSCALE:GREGORIAN
METHOD:PUBLISH
BEGIN:VEVENT
UID:69e6ba1143cda
DTSTAMP:20260420T234313Z
DTSTART:20230902
DTEND:20230903
LOCATION:
SUMMARY:Dackelwoche
DESCRIPTION:Oberammergau DE\nhttps://dackel.ch/events/dackelwoche-3/
URL:https://dackel.ch/events/dackelwoche-3/
END:VEVENT
END:VCALENDAR