BEGIN:VCALENDAR
VERSION:2.0
PRODID:-//eventon.com NONSGML v1.0//EN
CALSCALE:GREGORIAN
METHOD:PUBLISH
BEGIN:VEVENT
UID:69e6a2268f78f
DTSTAMP:20260420T220110Z
DTSTART:20230923
DTEND:20230924
LOCATION:
SUMMARY:Vielseitigkeitsprüfung ohne Spurlaut
DESCRIPTION:Ort: Schötz\nhttps://dackel.ch/events/vielseitigkeitspruefung-
 ohne-spurlaut-2/
URL:https://dackel.ch/events/vielseitigkeitspruefung-ohne-spurlaut-2/
END:VEVENT
END:VCALENDAR