BEGIN:VCALENDAR
VERSION:2.0
PRODID:-//eventon.com NONSGML v1.0//EN
CALSCALE:GREGORIAN
METHOD:PUBLISH
BEGIN:VEVENT
UID:69e6821809b07
DTSTAMP:20260420T194424Z
DTSTART:20230924
DTEND:20230925
LOCATION:
SUMMARY:BHP Schweizermeisterschaft
DESCRIPTION:Einladung BHP SM SDC 2023 (pdf-Datei) &nbsp;\nhttps://dackel.ch
 /events/bhp-schweizermeisterschaft-3/
URL:https://dackel.ch/events/bhp-schweizermeisterschaft-3/
END:VEVENT
END:VCALENDAR