BEGIN:VCALENDAR
VERSION:2.0
PRODID:-//eventon.com NONSGML v1.0//EN
CALSCALE:GREGORIAN
METHOD:PUBLISH
BEGIN:VEVENT
UID:69e66a7499465
DTSTAMP:20260420T180332Z
DTSTART:20231007
DTEND:20231008
LOCATION:
SUMMARY:Eignungsbewertung Schwarzwild
DESCRIPTION:Ort: Elgg\nhttps://dackel.ch/events/eignungsbewertung-schwarzwi
 ld-2/
URL:https://dackel.ch/events/eignungsbewertung-schwarzwild-2/
END:VEVENT
END:VCALENDAR