BEGIN:VCALENDAR
VERSION:2.0
PRODID:-//eventon.com NONSGML v1.0//EN
CALSCALE:GREGORIAN
METHOD:PUBLISH
BEGIN:VEVENT
UID:69e651251eca1
DTSTAMP:20260420T161533Z
DTSTART:20231015
DTEND:20231016
LOCATION:
SUMMARY:Begleithundeprüfung S (BHP-S)
DESCRIPTION:OG GR-TI Ort: Landquart\nhttps://dackel.ch/events/begleithundep
 ruefung-s-bhp-s-3/
URL:https://dackel.ch/events/begleithundepruefung-s-bhp-s-3/
END:VEVENT
END:VCALENDAR