BEGIN:VCALENDAR
VERSION:2.0
PRODID:-//eventon.com NONSGML v1.0//EN
CALSCALE:GREGORIAN
METHOD:PUBLISH
BEGIN:VEVENT
UID:69e7502e00903
DTSTAMP:20260421T102342Z
DTSTART:20240612T190300Z
DTEND:20240612T190300Z
LOCATION:
SUMMARY:Wassertest
DESCRIPTION:Ort: Untervaz\nhttps://dackel.ch/events/wassertest-4/
URL:https://dackel.ch/events/wassertest-4/
END:VEVENT
END:VCALENDAR