BEGIN:VCALENDAR
VERSION:2.0
PRODID:-//eventon.com NONSGML v1.0//EN
CALSCALE:GREGORIAN
METHOD:PUBLISH
BEGIN:VEVENT
UID:69eb43182e543
DTSTAMP:20260424T101656Z
DTSTART:20241103
DTEND:20241104
LOCATION:
SUMMARY:Formwert- und Verhaltensbeurteilung
DESCRIPTION:RG Nordwest Ort: Allschwil Ausschreibung (pdf-Datei) Anmeldunge
 n sind auch in Papierform möglich: &nbsp;\nhttps://dackel.ch/events/formwe
 rt-und-verhaltensbeurteilung-11/
URL:https://dackel.ch/events/formwert-und-verhaltensbeurteilung-11/
END:VEVENT
END:VCALENDAR