BEGIN:VCALENDAR
VERSION:2.0
PRODID:-//eventon.com NONSGML v1.0//EN
CALSCALE:GREGORIAN
METHOD:PUBLISH
BEGIN:VEVENT
UID:69e563ac8c014
DTSTAMP:20260419T232220Z
DTSTART:20240622
DTEND:20240623
LOCATION:
SUMMARY:CAC/CACIB Aarau
DESCRIPTION:www.swiss-dogshow.ch\nhttps://dackel.ch/events/cac-cacib-aarau-
 2/
URL:https://dackel.ch/events/cac-cacib-aarau-2/
END:VEVENT
END:VCALENDAR