BEGIN:VCALENDAR
VERSION:2.0
PRODID:-//eventon.com NONSGML v1.0//EN
CALSCALE:GREGORIAN
METHOD:PUBLISH
BEGIN:VEVENT
UID:69e54a518aa15
DTSTAMP:20260419T213409Z
DTSTART:20241027
DTEND:20241028
LOCATION:
SUMMARY:CAC Junghunde- und Veteranenausstellung
DESCRIPTION:Ort: Sonterswil Ausschreibung und Anmeldung (pdf-Datei) www.dac
 kel-ost.ch &nbsp;\nhttps://dackel.ch/events/cac-junghunde-und-veteranenauss
 tellung/
URL:https://dackel.ch/events/cac-junghunde-und-veteranenausstellung/
END:VEVENT
END:VCALENDAR