BEGIN:VCALENDAR
VERSION:2.0
PRODID:-//eventon.com NONSGML v1.0//EN
CALSCALE:GREGORIAN
METHOD:PUBLISH
BEGIN:VEVENT
UID:69e52fcb2822f
DTSTAMP:20260419T194059Z
DTSTART:20241115
DTEND:20241116
LOCATION:
SUMMARY:CAC/CACIB Genf
DESCRIPTION:www.chiens-expo.ch\nhttps://dackel.ch/events/cac-cacib-genf-2/
URL:https://dackel.ch/events/cac-cacib-genf-2/
END:VEVENT
END:VCALENDAR