BEGIN:VCALENDAR
VERSION:2.0
PRODID:-//eventon.com NONSGML v1.0//EN
CALSCALE:GREGORIAN
METHOD:PUBLISH
BEGIN:VEVENT
UID:69e518f34ba5d
DTSTAMP:20260419T180331Z
DTSTART:20240504
DTEND:20240505
LOCATION:
SUMMARY:SDC Züchter- und Richtertagung
DESCRIPTION:Ort: Schloss Landshut Einladung und Ausschreibung Züchtertagun
 g 2024 (pdf-Datei) &nbsp;\nhttps://dackel.ch/events/sdc-zuechter-und-richte
 rtagung-2/
URL:https://dackel.ch/events/sdc-zuechter-und-richtertagung-2/
END:VEVENT
END:VCALENDAR