BEGIN:VCALENDAR
VERSION:2.0
PRODID:-//eventon.com NONSGML v1.0//EN
CALSCALE:GREGORIAN
METHOD:PUBLISH
BEGIN:VEVENT
UID:69e73cd62abbf
DTSTAMP:20260421T090110Z
DTSTART:20241005
DTEND:20241006
LOCATION:
SUMMARY:Nachweis Eignungsbewertung Schwarzwild\,  Elgg
DESCRIPTION:Nachweis Eignungsbewertung Schwarzwild\,  Elgg\nhttps://dackel.
 ch/events/nachweis-eignungsbewertung-schwarzwild-elgg/
URL:https://dackel.ch/events/nachweis-eignungsbewertung-schwarzwild-elgg/
END:VEVENT
END:VCALENDAR