BEGIN:VCALENDAR
VERSION:2.0
PRODID:-//eventon.com NONSGML v1.0//EN
CALSCALE:GREGORIAN
METHOD:PUBLISH
BEGIN:VEVENT
UID:69e9ec6c0e06f
DTSTAMP:20260423T095452Z
DTSTART:20250322T123000Z
DTEND:20250322T225900Z
LOCATION:Dottikon Hotel Bahnhof
SUMMARY:122. GV Generalversammlung
DESCRIPTION:122. GV Dottikon\,  Rest. Hotel Bahnhof &nbsp; &nbsp; &nbsp;\nh
 ttps://dackel.ch/events/121-gv-generalversammlung-copy/
URL:https://dackel.ch/events/121-gv-generalversammlung-copy/
END:VEVENT
END:VCALENDAR