BEGIN:VCALENDAR
VERSION:2.0
PRODID:-//eventon.com NONSGML v1.0//EN
CALSCALE:GREGORIAN
METHOD:PUBLISH
BEGIN:VEVENT
UID:69e9116e710e5
DTSTAMP:20260422T182030Z
DTSTART:20250628
DTEND:20250629
LOCATION:
SUMMARY:IHA Aarau CAC/CACIB
DESCRIPTION:www.onlinedogshows.ch\nhttps://dackel.ch/events/iha-aarau-cac-c
 acib-2/
URL:https://dackel.ch/events/iha-aarau-cac-cacib-2/
END:VEVENT
END:VCALENDAR