BEGIN:VCALENDAR
VERSION:2.0
PRODID:-//eventon.com NONSGML v1.0//EN
CALSCALE:GREGORIAN
METHOD:PUBLISH
BEGIN:VEVENT
UID:69e90018b431f
DTSTAMP:20260422T170632Z
DTSTART:20250830
DTEND:20250831
LOCATION:
SUMMARY:IHA CAC/CACIB Luzern
DESCRIPTION:www.onlinedogshows.eu\nhttps://dackel.ch/events/iha-cac-cacib-l
 uzern/
URL:https://dackel.ch/events/iha-cac-cacib-luzern/
END:VEVENT
END:VCALENDAR