BEGIN:VCALENDAR
VERSION:2.0
PRODID:-//eventon.com NONSGML v1.0//EN
CALSCALE:GREGORIAN
METHOD:PUBLISH
BEGIN:VEVENT
UID:69e8e845206ce
DTSTAMP:20260422T152453Z
DTSTART:20250914
DTEND:20250915
LOCATION:
SUMMARY:CAC SDC Clubschau (Jahressiegerwertung)
DESCRIPTION:Ort: 5737 Menziken www.onlinedogshows.eu &nbsp;\nhttps://dackel
 .ch/events/cac-sdc-clubschau/
URL:https://dackel.ch/events/cac-sdc-clubschau/
END:VEVENT
END:VCALENDAR