BEGIN:VCALENDAR
VERSION:2.0
PRODID:-//eventon.com NONSGML v1.0//EN
CALSCALE:GREGORIAN
METHOD:PUBLISH
BEGIN:VEVENT
UID:69e8d17c11dde
DTSTAMP:20260422T134740Z
DTSTART:20251026
DTEND:20251027
LOCATION:
SUMMARY:CAC Junghunde- und Veteranenausstellung
DESCRIPTION:Ort: Sonterswil Ausschreibung und Meldeschein www.dackel-ost.ch
  &nbsp;\nhttps://dackel.ch/events/cac-junghunde-und-veteranenausstellung-2/
URL:https://dackel.ch/events/cac-junghunde-und-veteranenausstellung-2/
END:VEVENT
END:VCALENDAR