BEGIN:VCALENDAR
VERSION:2.0
PRODID:-//eventon.com NONSGML v1.0//EN
CALSCALE:GREGORIAN
METHOD:PUBLISH
BEGIN:VEVENT
UID:69e8bc6bbe3df
DTSTAMP:20260422T121747Z
DTSTART:20251003
DTEND:20251004
LOCATION:
SUMMARY:IHA Genf CAC/CACIB
DESCRIPTION:www.onlinedogshows.eu\nhttps://dackel.ch/events/iha-genf-cac-ca
 cib-2/
URL:https://dackel.ch/events/iha-genf-cac-cacib-2/
END:VEVENT
END:VCALENDAR