BEGIN:VCALENDAR
VERSION:2.0
PRODID:-//eventon.com NONSGML v1.0//EN
CALSCALE:GREGORIAN
METHOD:PUBLISH
BEGIN:VEVENT
UID:69e8a3f45ccf2
DTSTAMP:20260422T103324Z
DTSTART:20251011
DTEND:20251012
LOCATION:
SUMMARY:BHP Schweizermeisterschaft
DESCRIPTION:Ort: Horw LU Einladung_Meldeschein SM BHP 2025\nhttps://dackel.
 ch/events/bhp-schweizermeisterschaft-5/
URL:https://dackel.ch/events/bhp-schweizermeisterschaft-5/
END:VEVENT
END:VCALENDAR