BEGIN:VCALENDAR
VERSION:2.0
PRODID:-//eventon.com NONSGML v1.0//EN
CALSCALE:GREGORIAN
METHOD:PUBLISH
BEGIN:VEVENT
UID:69ecda5c2f3f8
DTSTAMP:20260425T151436Z
DTSTART:20260617T190300Z
DTEND:20260617T190300Z
LOCATION:
SUMMARY:Wassertest
DESCRIPTION:Ort: Möriken-Wildegg AG Info/Anmeldung: martin.wiederkehr@dack
 el.ch\nhttps://dackel.ch/events/wassertest-6/
URL:https://dackel.ch/events/wassertest-6/
END:VEVENT
END:VCALENDAR