BEGIN:VCALENDAR
VERSION:2.0
PRODID:-//eventon.com NONSGML v1.0//EN
CALSCALE:GREGORIAN
METHOD:PUBLISH
BEGIN:VEVENT
UID:69ecdb0050e3d
DTSTAMP:20260425T151720Z
DTSTART:20260823
DTEND:20260824
LOCATION:
SUMMARY:Kaninchenschleppe (KSchlH)
DESCRIPTION:Ort: Hauenstein/Ifenthal Info/Anmeldung: martin.wiederkehr@dack
 el.ch\nhttps://dackel.ch/events/kaninchenschleppe-kschlh-3/
URL:https://dackel.ch/events/kaninchenschleppe-kschlh-3/
END:VEVENT
END:VCALENDAR