BEGIN:VCALENDAR
VERSION:2.0
PRODID:-//eventon.com NONSGML v1.0//EN
CALSCALE:GREGORIAN
METHOD:PUBLISH
BEGIN:VEVENT
UID:69e563aa33785
DTSTAMP:20260419T232218Z
DTSTART:20261107
DTEND:20261108
LOCATION:
SUMMARY:Spurlautprüfung
DESCRIPTION:Ort: Kerzers Info/Anmeldung: nicole.kubli@dackel.ch\nhttps://da
 ckel.ch/events/spurlautpruefung-6/
URL:https://dackel.ch/events/spurlautpruefung-6/
END:VEVENT
END:VCALENDAR