BEGIN:VCALENDAR
VERSION:2.0
PRODID:-//eventon.com NONSGML v1.0//EN
CALSCALE:GREGORIAN
METHOD:PUBLISH
BEGIN:VEVENT
UID:69e59501f1b37
DTSTAMP:20260420T025249Z
DTSTART:20261002
DTEND:20261003
LOCATION:
SUMMARY:IHA Genf CAC/CACIB
DESCRIPTION:www.onlinedogshows.eu\nhttps://dackel.ch/events/iha-genf-cac-ca
 cib-3/
URL:https://dackel.ch/events/iha-genf-cac-cacib-3/
END:VEVENT
END:VCALENDAR