BEGIN:VCALENDAR
VERSION:2.0
PRODID:-//eventon.com NONSGML v1.0//EN
CALSCALE:GREGORIAN
METHOD:PUBLISH
BEGIN:VEVENT
UID:69eb8019cb1bc
DTSTAMP:20260424T143713Z
DTSTART:20220821
DTEND:20220822
LOCATION:
SUMMARY:BHP Schweizermeisterschaft
DESCRIPTION:OG Graubünden/Ticino Ort: Landquart\nhttps://dackel.ch/events/
 bhp-schweizermeisterschaft-2/
URL:https://dackel.ch/events/bhp-schweizermeisterschaft-2/
END:VEVENT
END:VCALENDAR