BEGIN:VCALENDAR
VERSION:2.0
PRODID:-//eventon.com NONSGML v1.0//EN
CALSCALE:GREGORIAN
METHOD:PUBLISH
BEGIN:VEVENT
UID:69eb9a1d40f3e
DTSTAMP:20260424T162813Z
DTSTART:20220717
DTEND:20220718
LOCATION:
SUMMARY:Veteranen-BHP (ab 8 Jahren)
DESCRIPTION:OG Ostschweiz Ort: Sitterdorf&nbsp; (Nachmittag)&nbsp;Prüf. Te
 il 1 Abgesagt!\nhttps://dackel.ch/events/veteranen-bhp-ab-8-jahren-2/
URL:https://dackel.ch/events/veteranen-bhp-ab-8-jahren-2/
END:VEVENT
END:VCALENDAR