BEGIN:VCALENDAR
VERSION:2.0
PRODID:-//eventon.com NONSGML v1.0//EN
CALSCALE:GREGORIAN
METHOD:PUBLISH
BEGIN:VEVENT
UID:69ebb2559a06d
DTSTAMP:20260424T181133Z
DTSTART:20220814
DTEND:20220815
LOCATION:
SUMMARY:SDC Dackelrennen Rifferswil
DESCRIPTION:\nhttps://dackel.ch/events/sdc-dackelrennen-rifferswil-2/
URL:https://dackel.ch/events/sdc-dackelrennen-rifferswil-2/
END:VEVENT
END:VCALENDAR