BEGIN:VCALENDAR
VERSION:2.0
PRODID:-//eventon.com NONSGML v1.0//EN
CALSCALE:GREGORIAN
METHOD:PUBLISH
BEGIN:VEVENT
UID:69ebc9d806bce
DTSTAMP:20260424T195152Z
DTSTART:20220904
DTEND:20220905
LOCATION:
SUMMARY:Nachsucheprüfung (Schweiss)
DESCRIPTION:Nachsucheprüfung (Schweiss)\nhttps://dackel.ch/events/nachsuch
 epruefung-schweiss-2/
URL:https://dackel.ch/events/nachsuchepruefung-schweiss-2/
END:VEVENT
END:VCALENDAR