BEGIN:VCALENDAR
VERSION:2.0
PRODID:-//eventon.com NONSGML v1.0//EN
CALSCALE:GREGORIAN
METHOD:PUBLISH
BEGIN:VEVENT
UID:69ebe40492b4d
DTSTAMP:20260424T214332Z
DTSTART:20220910
DTEND:20220911
LOCATION:
SUMMARY:Eignungsbewertung Schwarzwild
DESCRIPTION:Ort: Elgg\nhttps://dackel.ch/events/eignungsbewertung-schwarzwi
 ld/
URL:https://dackel.ch/events/eignungsbewertung-schwarzwild/
END:VEVENT
END:VCALENDAR