BEGIN:VCALENDAR
VERSION:2.0
PRODID:-//eventon.com NONSGML v1.0//EN
CALSCALE:GREGORIAN
METHOD:PUBLISH
BEGIN:VEVENT
UID:69ec02f724383
DTSTAMP:20260424T235535Z
DTSTART:20220924
DTEND:20220925
LOCATION:
SUMMARY:SDC Züchtertagung
DESCRIPTION:Ort: Schloss Landshut Ausschreibung und Anmeldung (pdf-Datei)\n
 https://dackel.ch/events/sdc-zuechtertagung-2/
URL:https://dackel.ch/events/sdc-zuechtertagung-2/
END:VEVENT
END:VCALENDAR