BEGIN:VCALENDAR
VERSION:2.0
PRODID:-//eventon.com NONSGML v1.0//EN
CALSCALE:GREGORIAN
METHOD:PUBLISH
BEGIN:VEVENT
UID:69ec36cfe69ea
DTSTAMP:20260425T033647Z
DTSTART:20221105
DTEND:20221106
LOCATION:
SUMMARY:Spurlautprüfung
DESCRIPTION:Ort: Kerzers\nhttps://dackel.ch/events/spurlautpruefung-2/
URL:https://dackel.ch/events/spurlautpruefung-2/
END:VEVENT
END:VCALENDAR