BEGIN:VCALENDAR
VERSION:2.0
PRODID:-//eventon.com NONSGML v1.0//EN
CALSCALE:GREGORIAN
METHOD:PUBLISH
BEGIN:VEVENT
UID:69ec36cdd5c96
DTSTAMP:20260425T033645Z
DTSTART:20220522
DTEND:20220523
LOCATION:
SUMMARY:SDC Frühjahrs-Clubschau CAC
DESCRIPTION:Ort: Fehraltdorf www.onlinedogshows.eu\nhttps://dackel.ch/event
 s/sdc-fruehjahrs-clubschau-cac/
URL:https://dackel.ch/events/sdc-fruehjahrs-clubschau-cac/
END:VEVENT
END:VCALENDAR