BEGIN:VCALENDAR
VERSION:2.0
PRODID:-//eventon.com NONSGML v1.0//EN
CALSCALE:GREGORIAN
METHOD:PUBLISH
BEGIN:VEVENT
UID:69e8833d50e9c
DTSTAMP:20260422T081349Z
DTSTART:20221118
DTEND:20221119
LOCATION:
SUMMARY:IHA Genf CAC/CACIB
DESCRIPTION:www.chiens-expo.ch\nhttps://dackel.ch/events/iha-genf-cac-cacib
 /
URL:https://dackel.ch/events/iha-genf-cac-cacib/
END:VEVENT
END:VCALENDAR