BEGIN:VCALENDAR
VERSION:2.0
PRODID:-//eventon.com NONSGML v1.0//EN
CALSCALE:GREGORIAN
METHOD:PUBLISH
BEGIN:VEVENT
UID:69e86e9d4541c
DTSTAMP:20260422T064549Z
DTSTART:20221030
DTEND:20221031
LOCATION:
SUMMARY:Junghunde- und Veteranenschau
DESCRIPTION:Ort: Sonterswil\nhttps://dackel.ch/events/junghunde-und-veteran
 enschau-2/
URL:https://dackel.ch/events/junghunde-und-veteranenschau-2/
END:VEVENT
END:VCALENDAR