BEGIN:VCALENDAR
VERSION:2.0
PRODID:-//eventon.com NONSGML v1.0//EN
CALSCALE:GREGORIAN
METHOD:PUBLISH
BEGIN:VEVENT
UID:69e858e80dded
DTSTAMP:20260422T051312Z
DTSTART:20220916T063400Z
DTEND:20220917T063400Z
LOCATION:
SUMMARY:7. Internationales Begleithundeturnier
DESCRIPTION:in Altenheim (D)\nhttps://dackel.ch/events/7-internationales-be
 gleithundeturnier/
URL:https://dackel.ch/events/7-internationales-begleithundeturnier/
END:VEVENT
END:VCALENDAR