BEGIN:VCALENDAR
VERSION:2.0
PRODID:-//eventon.com NONSGML v1.0//EN
CALSCALE:GREGORIAN
METHOD:PUBLISH
BEGIN:VEVENT
UID:69e844e5c5d24
DTSTAMP:20260422T034749Z
DTSTART:20220925
DTEND:20220926
LOCATION:
SUMMARY:Formwert- und Verhaltensbeurteilung
DESCRIPTION:OG NW Ort: Allschwil Anmeldungen sind auch in Papierform mögli
 ch:\nhttps://dackel.ch/events/formwert-und-verhaltensbeurteilung-copy-2/
URL:https://dackel.ch/events/formwert-und-verhaltensbeurteilung-copy-2/
END:VEVENT
END:VCALENDAR