BEGIN:VCALENDAR
VERSION:2.0
PRODID:-//eventon.com NONSGML v1.0//EN
CALSCALE:GREGORIAN
METHOD:PUBLISH
BEGIN:VEVENT
UID:69eb42dae418e
DTSTAMP:20260424T101554Z
DTSTART:20220911
DTEND:20220912
LOCATION:
SUMMARY:Vielseitigkeitsprüfung ohne Spurlaut
DESCRIPTION:Ort: Schötz\nhttps://dackel.ch/events/vielseitigkeitspruefung-
 ohne-spurlaut-3/
URL:https://dackel.ch/events/vielseitigkeitspruefung-ohne-spurlaut-3/
END:VEVENT
END:VCALENDAR